BEGIN:VCALENDAR
PRODID:-//kirchenweb.ch gmbh//veranstaltungsausgabe v2.0//DE
VERSION:2.0
METHOD:PUBLISH
BEGIN:VEVENT
DTSTART:20231203T090000Z
DTEND:20231203T100000Z
LOCATION:Kirche\, Kirchstrasse 8\, 8214 Gächlingen
TRANSP:OPAQUE
SEQUENCE:0
UID:142309-veranstaltung@ref-sh.ch
DTSTAMP:20231128T150817Z
DESCRIPTION:Treffpunkt in der Kirche Gächlingen.\nAusnahmsweise gibt es
  keinen gemeinsamen Beginn in der Kirche. Die Kinder und Jugendlichen
  gehen mit Sebastian Ebi ins Pfarrhaus und feiern dort Jugendgottesdienst.
  \nFür alle 5.-9.-Klässler.\n\nKontakt: Sebastian Ebi\n\nWeitere Infos:
  https://www.ref-sh.ch/veranstaltung/142309
SUMMARY:Jugendgottesdienst
PRIORITY:5
X-MICROSOFT-CDO-IMPORTANCE:1
CLASS:PUBLIC
END:VEVENT
END:VCALENDAR
