BEGIN:VCALENDAR
PRODID:-//kirchenweb.ch gmbh//veranstaltungsausgabe v2.0//DE
VERSION:2.0
METHOD:PUBLISH
BEGIN:VEVENT
DTSTART:20231225T110000Z
DTEND:20231225T160000Z
LOCATION:Zwinglikirche\, Hochstrasse 202\,  Schaffhausen
TRANSP:OPAQUE
SEQUENCE:0
UID:142229-veranstaltung@ref-sh.ch
DTSTAMP:20231215T085108Z
DESCRIPTION:Weihnachtsfeier für alle\, die Weihnachten in Gesellschaft
  feiern möchten.  \n\nKontakt: Sozialkiakonie\nBarbara Rohrer
  Sozialdiakonie\n\nWeitere Infos:
  https://www.ref-sh.ch/veranstaltung/142229
SUMMARY:Wiehnachts-Stubete
PRIORITY:5
X-MICROSOFT-CDO-IMPORTANCE:1
CLASS:PUBLIC
END:VEVENT
END:VCALENDAR
