BEGIN:VCALENDAR
PRODID:-//kirchenweb.ch gmbh//veranstaltungsausgabe v2.0//DE
VERSION:2.0
METHOD:PUBLISH
BEGIN:VEVENT
DTSTART:20231231T160000Z
DTEND:20231231T170000Z
LOCATION:Bergkirche Neunkirch\, Oberwiesstr. 20\, 8213 Neunkirch
TRANSP:OPAQUE
SEQUENCE:0
UID:142167-veranstaltung@ref-sh.ch
DTSTAMP:20240102T081012Z
DESCRIPTION:Beim Gottesdienst am Altjahrsabend hören wir besondere Musik
  mit dem Quartett Dusha:\nWehmütige Melodien\, rassige Rhythmen - die
  Zigeunermusik aus dem Osten vereint Fröhlichkeit\nund Traurigkeit. Die
  reiche Vielfalt der Musik aus Rumänien\, Ungarn\, der Slowakei und
  andern\nLändern drückt urmenschliche Gefühle von Sehnsucht\,
  Melancholie\, Leidenschaft und\nLebensfreude aus.\nDusha besteht aus zwei
  Schaffhauser Musikerinnen und einem Rromamusiker Ehepaar aus
 \nStrassburg\, das u.a. schon mit Yehudi Menuhin\, Gheorghe Zamfir und
  Biréli Lagrène zusammen\narbeitete. Virtuosität\, Spielfreude\,
  intuitives Zusammenspiel und Spontaneität zeichnen die Darbietungen von
  Dusha aus. Es wirken mit:\nFlora Thalassa\, Violine\nLudovit Kovac\,
  Cymbal\nDésirée Senn\, Violine\nRebekka Weber\, Piano\n\nKontakt: Pfrn.
  Eva Baumgardt\n\nWeitere Infos:
  https://www.ref-sh.ch/veranstaltung/142167
SUMMARY:Gottesdienst an Silvester
PRIORITY:5
X-MICROSOFT-CDO-IMPORTANCE:1
CLASS:PUBLIC
END:VEVENT
END:VCALENDAR
