BEGIN:VCALENDAR
PRODID:-//kirchenweb.ch gmbh//veranstaltungsausgabe v2.0//DE
VERSION:2.0
METHOD:PUBLISH
BEGIN:VEVENT
DTSTART:20231225T090000Z
DTEND:20231225T100000Z
LOCATION:Bergkirche Neunkirch\, Oberwiesstr. 20\, 8213 Neunkirch
TRANSP:OPAQUE
SEQUENCE:0
UID:142166-veranstaltung@ref-sh.ch
DTSTAMP:20231225T125722Z
DESCRIPTION:Kontakt: Pfrn. Eva Baumgardt\n\nWeitere Infos:
  https://www.ref-sh.ch/veranstaltung/142166
SUMMARY:Gottesdienst mit Abendmahl
PRIORITY:5
X-MICROSOFT-CDO-IMPORTANCE:1
CLASS:PUBLIC
END:VEVENT
END:VCALENDAR
