BEGIN:VCALENDAR
PRODID:-//kirchenweb.ch gmbh//veranstaltungsausgabe v2.0//DE
VERSION:2.0
METHOD:PUBLISH
BEGIN:VEVENT
DTSTART:20230122T084500Z
DTEND:20230122T094500Z
LOCATION:Kirche Löhningen\, Kloster 3\, 8224 Löhningen
TRANSP:OPAQUE
SEQUENCE:0
UID:141866-veranstaltung@ref-sh.ch
DTSTAMP:20230125T043609Z
DESCRIPTION:Gottesdienst mit Pfarrer Lukas P. Huber in der Kirche
  Löhningen. In der Serie «Was mir der Glaube bedeutet» steht Mattias
  Ernst Red und Antwort.\n\nKontakt: Pfarrer Lukas P. Huber\n\nWeitere
  Infos: https://www.ref-sh.ch/veranstaltung/141866
SUMMARY:Gottesdienst: «Was mir der Glaube bedeutet»
PRIORITY:5
X-MICROSOFT-CDO-IMPORTANCE:1
CLASS:PUBLIC
END:VEVENT
END:VCALENDAR
