BEGIN:VCALENDAR
PRODID:-//kirchenweb.ch gmbh//veranstaltungsausgabe v2.0//DE
VERSION:2.0
METHOD:PUBLISH
BEGIN:VEVENT
DTSTART:20230903T073000Z
DTEND:20230903T090000Z
LOCATION:Kirche Oberhallau\, Mitteldorfstrasse\, 8216 Oberhallau
TRANSP:OPAQUE
SEQUENCE:0
UID:141858-veranstaltung@ref-sh.ch
DTSTAMP:20230810T082847Z
DESCRIPTION:Anschliessend Apéro\n\nGemeinsamer Gottesdienst der
  Kirchgemeinden Beringen\, Löhningen–Guntmadingen\, Gächlingen und
  Oberhallau zusammen mit der Jungen Kirche Klettgau\, dem gemeinsamen
  Jugendbereich der vier Kirchgemeinden.\n\nDie Pfarrpersonen der
  Kirchgemeinden wirken mit:  Jutta Schenk\, Daniela Scherello\,\n Lukas
  Huber\,  Werner Näf\n\nKontakt: Pfarrteam\, Junge Kirche\n\nWeitere
  Infos: https://www.ref-sh.ch/veranstaltung/141858
SUMMARY:Vier-Gemeinde-Gottesdienst mit der Jungen Kirche Klettgau
PRIORITY:5
X-MICROSOFT-CDO-IMPORTANCE:1
CLASS:PUBLIC
END:VEVENT
END:VCALENDAR
