BEGIN:VCALENDAR
PRODID:-//kirchenweb.ch gmbh//veranstaltungsausgabe v2.0//DE
VERSION:2.0
METHOD:PUBLISH
BEGIN:VEVENT
DTSTART:20230317T183000Z
DTEND:20230317T210000Z
LOCATION:Gächlingen / Löhningen / Oberhallau\, \,
TRANSP:OPAQUE
SEQUENCE:0
UID:141806-veranstaltung@ref-sh.ch
DTSTAMP:20230317T172510Z
DESCRIPTION:Thema: TC Zeitungs-Talentshow\n\nTreffpunkt: 19:30 Messmerhaus
  Löhningen\n\nMitnehmen: Zeitung\, Klebeband\, Schere \n\nInfo:\n\nLiebe
  TCler\n\nAn diesem Freitag heissen wir euch herzlich willkommen bei der
  originalen TC Zeitungs-Talentshow. \n\nVeranstaltungsort für diesen
  Anlass ist das berühmte Messmerhaus in Löhningen um 19:30. \n\nGerne
  bitten wir euch\, in eurem Equipment Zeitungen\, Klebeband und eine
  Schere mitzubringen. \n\nWir sind gespannt auf euer Talent und eure
  Kreativität \n\nDas TC Team\, aka das Organisationskomitee \n\n\n
 \nNächster Teenager Club Termine:\n\n\n\nKontakt:
  archiv.junge-kirche-klettgau@ref-sh.ch\n\nWeitere Infos:
  https://www.ref-sh.ch/veranstaltung/141806
SUMMARY:TC - Zeitungs - Talentshow
PRIORITY:5
X-MICROSOFT-CDO-IMPORTANCE:1
CLASS:PUBLIC
END:VEVENT
END:VCALENDAR
