BEGIN:VCALENDAR
PRODID:-//kirchenweb.ch gmbh//veranstaltungsausgabe v2.0//DE
VERSION:2.0
METHOD:PUBLISH
BEGIN:VEVENT
DTSTART:20230217T183000Z
DTEND:20230217T210000Z
LOCATION:Gächlingen / Löhningen / Oberhallau\, \,
TRANSP:OPAQUE
SEQUENCE:0
UID:141805-veranstaltung@ref-sh.ch
DTSTAMP:20230214T172411Z
DESCRIPTION:Thema: Spaghettiplausch\n\nTreffpunkt: 19:30 Messmerhaus
  Löhningen\n\nMitnehmen: hunger\, eure Freunde\, euer Lieblingsspiel\n
 \nInfo:\n\nLiebe TCler\n\nAm ersten Freitag nach den Sportferien werden
  wir einen Spaghettiplausch veranstalten\, wozu wir uns um 19:30 beim
  Messmerhaus in Löhningen treffen. Dafür bitten wir euch hunger\, eure
  Freunde und euer Lieblingsspiel mitzubringen. \n\nWir freuen uns auf
  euch!\n\nEuer TC Team\n\nNächster Teenager Club Termine:\n\n\n\nKontakt:
  archiv.junge-kirche-klettgau@ref-sh.ch\n\nWeitere Infos:
  https://www.ref-sh.ch/veranstaltung/141805
SUMMARY:TC - Spaghettiplausch
PRIORITY:5
X-MICROSOFT-CDO-IMPORTANCE:1
CLASS:PUBLIC
END:VEVENT
END:VCALENDAR
