BEGIN:VCALENDAR
PRODID:-//kirchenweb.ch gmbh//veranstaltungsausgabe v2.0//DE
VERSION:2.0
METHOD:PUBLISH
BEGIN:VEVENT
DTSTART:20230120T180000Z
DTEND:20230120T210000Z
LOCATION:Gächlingen / Löhningen / Oberhallau\, \,
TRANSP:OPAQUE
SEQUENCE:0
UID:141804-veranstaltung@ref-sh.ch
DTSTAMP:20230109T200726Z
DESCRIPTION:Thema: Die ultimative Quizshow\n\nTreffpunkt: 19:00 Check in
  Beringen\n\nMitnehmen: Wasserpistole\, dem Wetter entsprechende
  Kleidung\, eure Freunde\, gute Laune\n\nInfo:\n\nLiebe TCler\n\nAn
  unserem zweiten TC des neuen Jahres treffen wir uns um 19:00 beim Check
  in Beringen. Wir werden gemeinsam mit dem Check in Beringen einen
  Quizabend veranstalten. Bitte bringt dafür eine Wasserpistole\, dem
  Wetter entsprechende Kleidung\, gute Laune und eure Freunde mit. Das Ende
  wird ebenfalls im Check in Raum um 22:00 sein.\n\nWir freuen uns auf
  einen tollen Abend mit euch. \n\nBis bald\, euer TC Team\n\nBei Fragen: 
 \nTC Leiterin Zoë Mettler\nE-Mail: zoe.mettler@ref-sh.ch\n\nNächster
  Teenager Club Termine:\n\n\n\nKontakt: TC Leiterin Zoë Mettler\nE-Mail:
  zoe.mettler@ref-sh.ch\n\nWeitere Infos:
  https://www.ref-sh.ch/veranstaltung/141804
SUMMARY:TC - Die ultimative Quizshow
PRIORITY:5
X-MICROSOFT-CDO-IMPORTANCE:1
CLASS:PUBLIC
END:VEVENT
END:VCALENDAR
