BEGIN:VCALENDAR
PRODID:-//kirchenweb.ch gmbh//veranstaltungsausgabe v2.0//DE
VERSION:2.0
METHOD:PUBLISH
BEGIN:VEVENT
DTSTART:20230106T183000Z
DTEND:20230106T210000Z
LOCATION:Gächlingen / Löhningen / Oberhallau\, \,
TRANSP:OPAQUE
SEQUENCE:0
UID:141803-veranstaltung@ref-sh.ch
DTSTAMP:20221225T214421Z
DESCRIPTION:Thema: TC- Im Hallenbad\n\nTreffpunkt: 18:49 Bushaltestelle
  Löhningen oder 19:20 bei Eingang KSS\n\nMitnehmen: Badesachen\,
  Handtuch\, Geld für Busticket und Eintritt\n\nInfo:\n\nLiebe TCler\n
 \nWir wünschen euch schöne Festtage und einen guten Rutsch ins neue
  Jahr.\n\nAm ersten TC des Jahres werden wir gemeinsam in die KSS
  Schaffhausen gehen. Dafür nehmen wir folgende Verbindung:\n\nAbfahrt
  Hinweg: 18:49 Bushaltestelle Löhningen\n\nalternativer Treffpunkt: 19:20
  bei Eingang KSS\n\nProgrammende:\n\nBei Abholung: 21:20 bei Eingang KSS\n
 \nAnsonsten: 22:06 Bushaltestelle Löhningen\n\nBitte nehmt entsprechend
  eure Badesachen\, ein Badetuch sowie Geld für das Busticket und den
  Eintritt mit. Wir freuen uns auf einen tollen Start ins neue Jahr mit
  euch.\n\nEuer TC Team\n\n\n\nBei Fragen: \nTC Leiterin Zoë Mettler
 \nE-Mail: zoe.mettler@ref-sh.ch\n\nNächster Teenager Club Termine:\n\n\n
 \nKontakt: TC Leiterin Zoë Mettler\nE-Mail: zoe.mettler@ref-sh.ch\n
 \nWeitere Infos: https://www.ref-sh.ch/veranstaltung/141803
SUMMARY:TC - Im Hallenbad
PRIORITY:5
X-MICROSOFT-CDO-IMPORTANCE:1
CLASS:PUBLIC
END:VEVENT
END:VCALENDAR
