BEGIN:VCALENDAR
PRODID:-//kirchenweb.ch gmbh//veranstaltungsausgabe v2.0//DE
VERSION:2.0
METHOD:PUBLISH
BEGIN:VEVENT
DTSTART:20231224T160000Z
DTEND:20231224T173000Z
LOCATION:Zwinglikirche\, Hochstrasse 202\, 8200 Schaffhausen
TRANSP:OPAQUE
SEQUENCE:0
UID:141717-veranstaltung@ref-sh.ch
DTSTAMP:20231214T094646Z
DESCRIPTION:Kontakt: Pfrn. Miriam Gehrke\n\nWeitere Infos:
  https://www.ref-sh.ch/veranstaltung/141717
SUMMARY:Gottesdienst mit Weihnachtsmusical
PRIORITY:5
X-MICROSOFT-CDO-IMPORTANCE:1
CLASS:PUBLIC
END:VEVENT
END:VCALENDAR
