BEGIN:VCALENDAR
PRODID:-//kirchenweb.ch gmbh//veranstaltungsausgabe v2.0//DE
VERSION:2.0
METHOD:PUBLISH
BEGIN:VEVENT
DTSTART:20230205T084500Z
DTEND:20230205T094500Z
LOCATION:Ref. Kirche Beringen\, Postberg 21\, 8222 Beringen
TRANSP:OPAQUE
SEQUENCE:0
UID:141490-veranstaltung@ref-sh.ch
DTSTAMP:20230126T102105Z
DESCRIPTION:Regio-Gottesdienst in der Kirche Beringen.\nDie Kirchgemeinde
  Löhningen-Guntmadingen ist ebenfalls herzlich an diesen Gottesdienst
  eingeladen.\n\nKontakt: Pfarrerin Karin Marterer\n\nWeitere Infos:
  https://www.ref-sh.ch/veranstaltung/141490
SUMMARY:Regio-Gottesdienst in Beringen
PRIORITY:5
X-MICROSOFT-CDO-IMPORTANCE:1
CLASS:PUBLIC
END:VEVENT
END:VCALENDAR
