BEGIN:VCALENDAR
PRODID:-//kirchenweb.ch gmbh//veranstaltungsausgabe v2.0//DE
VERSION:2.0
METHOD:PUBLISH
BEGIN:VEVENT
DTSTART:20230108T084500Z
DTEND:20230108T094500Z
LOCATION:Ref. Kirche Beringen\, Postberg 21\, 8222 Beringen
TRANSP:OPAQUE
SEQUENCE:0
UID:141487-veranstaltung@ref-sh.ch
DTSTAMP:20230106T150859Z
DESCRIPTION:anschl. Apéro\n\nEine Stunde im Gebetsraum reservieren kann
  man http://chlaeggi2023.gebetonline.ch/.\n\nKontakt: Pfarrerin Jutta
  Schenk\nPastorin Milena Šelemba\nPfr. Lukas Huber\n\nWeitere Infos:
  https://www.ref-sh.ch/veranstaltung/141487
SUMMARY:Allianz-Gottesdienst zum Start der Gebetswoche
PRIORITY:5
X-MICROSOFT-CDO-IMPORTANCE:1
CLASS:PUBLIC
END:VEVENT
END:VCALENDAR
