BEGIN:VCALENDAR
PRODID:-//kirchenweb.ch gmbh//veranstaltungsausgabe v2.0//DE
VERSION:2.0
METHOD:PUBLISH
BEGIN:VEVENT
DTSTART:20230107T123000Z
DTEND:20230107T160000Z
LOCATION:Kirchgemeindehaus Beringen\, Steig 2\, 8222 Beringen
TRANSP:OPAQUE
SEQUENCE:0
UID:141309-veranstaltung@ref-sh.ch
DTSTAMP:20221114T214619Z
DESCRIPTION:Kontakt: David Bollinger\n\nWeitere Infos:
  https://www.ref-sh.ch/veranstaltung/141309
SUMMARY:Jungschi Beringen
PRIORITY:5
X-MICROSOFT-CDO-IMPORTANCE:1
CLASS:PUBLIC
END:VEVENT
END:VCALENDAR
