BEGIN:VCALENDAR
PRODID:-//kirchenweb.ch gmbh//veranstaltungsausgabe v2.0//DE
VERSION:2.0
METHOD:PUBLISH
BEGIN:VEVENT
DTSTART:20230702T090000Z
DTEND:20230702T100000Z
LOCATION:Lugmer/Gälefritz\, \,  Gächlingen / Oberhallau
TRANSP:OPAQUE
SEQUENCE:0
UID:141297-veranstaltung@ref-sh.ch
DTSTAMP:20240312T152714Z
DESCRIPTION:Gemeinsamer Gottesdienst der Kirchgemeinden Gächlingen\,
  Neunkirch und Oberhallau unter freiem Himmel bei der Grillstelle auf dem
  Gälenfritz (Lugmer zwischen Gächlingen und Oberhallau). Es wird ein
  Zelt aufgestellt.\n\nGetauft werden Nina und Elin Reich aus Gächlingen
  und Lars Wäckerlin aus Oberhallau.\n\nNach dem Gottesdienst kann auf der
  Grillstelle und auf einem Gasgrill grilliert werden. Das Grillgut kann
  mitgebracht werden\, es gibt aber auch einen Wurst-Verkauf. Getränke\,
  Kaffee und Kuchen werden vor Ort verkauft.\n\nAnreise\nMit dem Bus nach
  Gächlingen oder Oberhallau.\nKeine Auto-Parkplatz beim Festplatz.
 \nGächlingen: Parkiermöglichkeiten bei der Turnhalle\, ab da zu Fuss ca.
  15-20 min. Fahrdienst: Treffpunkt um 10.40 Uhr vor dem Volg Gächlingen.
 \nOberhallau: Parkieren bei der Kirche\, ab da zu Fuss ca. 10 min. Ein
  Fahrdienst wird angeboten\, Kontakt Fabian Ochsner\nNeunkirch: Fahrdienst
  ab Neunkirch bitte bis bis am Freitag Mittag bei Sandra Vögeli erfragen.
 \n\n47.704317/8.483103\n\n\n\nKontakt: Pfr. Werner Näf\, Pfrn. Daniela
  Scherello\n\nWeitere Infos: https://www.ref-sh.ch/veranstaltung/141297
SUMMARY:Gottesdienst auf dem Gälenfritz mit Taufen
PRIORITY:5
X-MICROSOFT-CDO-IMPORTANCE:1
CLASS:PUBLIC
END:VEVENT
END:VCALENDAR
