BEGIN:VCALENDAR
PRODID:-//kirchenweb.ch gmbh//veranstaltungsausgabe v2.0//DE
VERSION:2.0
METHOD:PUBLISH
BEGIN:VEVENT
DTSTART:20231203T103000Z
DTEND:20231203T113000Z
LOCATION:Kirche\, Kirchstrasse 8\, 8214 Gächlingen
TRANSP:OPAQUE
SEQUENCE:0
UID:141282-veranstaltung@ref-sh.ch
DTSTAMP:20231115T163005Z
DESCRIPTION:Im Anschluss an die Kirchgemeindeversammlung sind alle zum
  Apéro eingeladen.\n\nKontakt: Philippe Niklaus\n\nWeitere Infos:
  https://www.ref-sh.ch/veranstaltung/141282
SUMMARY:Apéro
PRIORITY:5
X-MICROSOFT-CDO-IMPORTANCE:1
CLASS:PUBLIC
END:VEVENT
END:VCALENDAR
