BEGIN:VCALENDAR
PRODID:-//kirchenweb.ch gmbh//veranstaltungsausgabe v2.0//DE
VERSION:2.0
METHOD:PUBLISH
BEGIN:VEVENT
DTSTART:20230115T163000Z
DTEND:20230115T200000Z
LOCATION:Kirche Gächlingen\, Kirchstrasse 8\, 8214 Gächlingen
TRANSP:OPAQUE
SEQUENCE:0
UID:141070-veranstaltung@ref-sh.ch
DTSTAMP:20230301T080343Z
DESCRIPTION:Weitere Infos zum Boxenstopp unter boxenstopp.\n\nProgramm
 \n17:30 – Apéro\n18:15 – Znacht\n19:30 – Gottesdienst\n21:00 –
  Snacks und open end\n\nKontakt: Sebastian Ebi\, sebastian.ebi@ref-sh.ch\,
  079 576 99 94\n\nWeitere Infos:
  https://www.ref-sh.ch/veranstaltung/141070
SUMMARY:Boxenstopp Abendessen und Gottesdienst
PRIORITY:5
X-MICROSOFT-CDO-IMPORTANCE:1
CLASS:PUBLIC
END:VEVENT
END:VCALENDAR
