BEGIN:VCALENDAR
PRODID:-//kirchenweb.ch gmbh//veranstaltungsausgabe v2.0//DE
VERSION:2.0
METHOD:PUBLISH
BEGIN:VEVENT
DTSTART:20230705T100000Z
DTEND:20230705T120000Z
LOCATION:Restaurant Haumesser\, Schulstrasse 2\, 8214 Gächlingen
TRANSP:OPAQUE
SEQUENCE:0
UID:141005-veranstaltung@ref-sh.ch
DTSTAMP:20230705T162443Z
DESCRIPTION:Wir laden alle Gächlingerinnen und Gächlinger zum
  Mittagstisch ins Restaurant Haumesser ein. Guido Zurbrügg bereitet ein
  feines 3Gang-Menu vor. Der monatliche Treffpunkt  findet an jedem 1.
  Mittwoch im Monat statt.\n\nAb 13.30 Uhr wird eine Mitarbeiterin der
  Spitex Klettgau-Randen anwesend sein\, um allen\, welche dies wünschen\,
  Blutdruck und Blutzucker zu messen.\nFinanziell wird der Mittagstisch mit
  Beiträgen aus dem "Müller-Hepp-Fonds" unterstützt\, der von der Spitex
  Klettgau-Randen verwaltet wird.\n\nKosten für die Mittagstisch-Gäste:
  Fr. 18.00 (ohne alkoholische Getränke)\n\nKontakt: Marianne Näf-Bräker
 \n\nWeitere Infos: https://www.ref-sh.ch/veranstaltung/141005
SUMMARY:Mittagstisch
PRIORITY:5
X-MICROSOFT-CDO-IMPORTANCE:1
CLASS:PUBLIC
END:VEVENT
END:VCALENDAR
