BEGIN:VCALENDAR
PRODID:-//kirchenweb.ch gmbh//veranstaltungsausgabe v2.0//DE
VERSION:2.0
METHOD:PUBLISH
BEGIN:VEVENT
DTSTART:20231231T181500Z
DTEND:20231231T191500Z
LOCATION:St.Johann\, Kirchhofplatz\, 8200 Schaffhausen
TRANSP:OPAQUE
SEQUENCE:0
UID:140895-veranstaltung@ref-sh.ch
DTSTAMP:20231226T124010Z
DESCRIPTION:Kontakt: Pfr. Daniel Müller\n\nWeitere Infos:
  https://www.ref-sh.ch/veranstaltung/140895
SUMMARY:Gesamtstädtischer Silvester-Gottesdienst
PRIORITY:5
X-MICROSOFT-CDO-IMPORTANCE:1
CLASS:PUBLIC
END:VEVENT
END:VCALENDAR
