BEGIN:VCALENDAR
PRODID:-//kirchenweb.ch gmbh//veranstaltungsausgabe v2.0//DE
VERSION:2.0
METHOD:PUBLISH
BEGIN:VEVENT
DTSTART:20231225T091500Z
DTEND:20231225T101500Z
LOCATION:St.Johann\, Kirchhofplatz\, 8200 Schaffhausen
TRANSP:OPAQUE
SEQUENCE:0
UID:140893-veranstaltung@ref-sh.ch
DTSTAMP:20231219T140307Z
DESCRIPTION:"Das wahre Licht\, das jeden Menschen erleuchtet\, kam in die
  Welt." (Johannesevangelium 1\,9)\nHerzlich willkommen zum klassischen
  Weihnachtsgottesdienst am Morgen des ersten Weihnachtsfesttags! Gediegene
  Orgelmusik\, gespielt von Andreas Jud\, und der Gesang von Yolanda
  Grümmer\, Sopran\, die Festpredigt des Kirchenratspräsidenten Pfr.
  Wolfram Kötter und die feierliche Abendmahlsliturgie mit bekannten und
  geliebten Weihnachtsliedern erheben und wärmen unsere Herzen. \n\n
 \nKontakt: Roland Diethelm\n\nWeitere Infos:
  https://www.ref-sh.ch/veranstaltung/140893
SUMMARY:Weihnachts-Gottesdienst mit Abendmahl
PRIORITY:5
X-MICROSOFT-CDO-IMPORTANCE:1
CLASS:PUBLIC
END:VEVENT
END:VCALENDAR
