BEGIN:VCALENDAR
PRODID:-//kirchenweb.ch gmbh//veranstaltungsausgabe v2.0//DE
VERSION:2.0
METHOD:PUBLISH
BEGIN:VEVENT
DTSTART:20230806T080000Z
DTEND:20230806T090000Z
LOCATION:Räbhüsli Heusi\, Oberer Schlemmweg (ausgeschildert)\, 8214
  Gächlingen
TRANSP:OPAQUE
SEQUENCE:0
UID:140868-veranstaltung@ref-sh.ch
DTSTAMP:20230906T150938Z
DESCRIPTION:Gottesdienst beim Räbhüsli der Familie Heusi: Gut geschützt
  im Zelt\nAnfahrt ausgeschildert ab Gächlingen\nFahrdienst ab Neunkirch
  bitte bis bis am Freitag Mittag bei Sandra Vögeli erfragen.\n\nKarte
  (für Übersicht mit dem Minus-Zeichen verkleinern)\n47.703345/8.488146\n
 \nKontakt: Marianne Näf-Bräker\n\nWeitere Infos:
  https://www.ref-sh.ch/veranstaltung/140868
SUMMARY:Regio-Gottesdienst im Räbhüsli bei Familie Heusi
PRIORITY:5
X-MICROSOFT-CDO-IMPORTANCE:1
CLASS:PUBLIC
END:VEVENT
END:VCALENDAR
