BEGIN:VCALENDAR
PRODID:-//kirchenweb.ch gmbh//veranstaltungsausgabe v2.0//DE
VERSION:2.0
METHOD:PUBLISH
BEGIN:VEVENT
DTSTART:20240101T100000Z
DTEND:20240101T110000Z
LOCATION:Kirche\, Kirchstrasse 8\, 8214 Gächlingen
TRANSP:OPAQUE
SEQUENCE:0
UID:140865-veranstaltung@ref-sh.ch
DTSTAMP:20241224T141136Z
DESCRIPTION:Wir beginnen mit einem Neujahrs-Apéro. Happy New Year? Ein
  paar Gedanken von Werner Näf und ein paar Lieder mit Roger Hablützel an
  der Gitarre.\n\nFahrdienst ab Neunkirch bitte bis bis am Freitag Mittag
  bei Sandra Vögeli erfragen.\n\nKontakt: Susanne Ryser\n\nWeitere Infos:
  https://www.ref-sh.ch/veranstaltung/140865
SUMMARY:Neujahrs-Apéro Andacht
PRIORITY:5
X-MICROSOFT-CDO-IMPORTANCE:1
CLASS:PUBLIC
END:VEVENT
END:VCALENDAR
