BEGIN:VCALENDAR
PRODID:-//kirchenweb.ch gmbh//veranstaltungsausgabe v2.0//DE
VERSION:2.0
METHOD:PUBLISH
BEGIN:VEVENT
DTSTART:20231217T160000Z
DTEND:20231217T170000Z
LOCATION:Kirche\, Kirchstrasse 8\, 8214 Gächlingen
TRANSP:OPAQUE
SEQUENCE:0
UID:140863-veranstaltung@ref-sh.ch
DTSTAMP:20240501T125441Z
DESCRIPTION:Im ersten Teil erleben wir eine Geschichte und basteln
  anschliessend etwas dazu.\nUm ca. 17.30 Uhr beginnt das offene Singen von
  Weihnachtsliedern unter der Leitung von Stefan Werner.\nAnschliessend
  sind alle eingeladen\, bei Suppe\, Brot und Punsch den Abend ausklingen
  zu lassen.\n\nKontakt: Marianne Näf-Bräker\n\nWeitere Infos:
  https://www.ref-sh.ch/veranstaltung/140863
SUMMARY:Gemeinde-Weihnachtsfeier für Gross und Klein
PRIORITY:5
X-MICROSOFT-CDO-IMPORTANCE:1
CLASS:PUBLIC
END:VEVENT
END:VCALENDAR
