BEGIN:VCALENDAR
PRODID:-//kirchenweb.ch gmbh//veranstaltungsausgabe v2.0//DE
VERSION:2.0
METHOD:PUBLISH
BEGIN:VEVENT
DTSTART:20231210T100000Z
DTEND:20231210T110000Z
LOCATION:Kirche\, Kirchstrasse 8\, 8214 Gächlingen
TRANSP:OPAQUE
SEQUENCE:0
UID:140862-veranstaltung@ref-sh.ch
DTSTAMP:20231214T114933Z
DESCRIPTION:Gottesdienst in lockerer Atmosphäre\, mit Band\,
  Kreativteil\, Input\, offene Phase mit Abendmahl und anderen Angeboten\n
 \nWas ist die Kafi-Chile?
  https://www.ref-gaechlingen.ch/kafi-chile-gaechlingen\n\nKontakt: Werner
  Näf \n\nWeitere Infos: https://www.ref-sh.ch/veranstaltung/140862
SUMMARY:Kafi-Chile: Gottesdienst
PRIORITY:5
X-MICROSOFT-CDO-IMPORTANCE:1
CLASS:PUBLIC
END:VEVENT
END:VCALENDAR
