BEGIN:VCALENDAR
PRODID:-//kirchenweb.ch gmbh//veranstaltungsausgabe v2.0//DE
VERSION:2.0
METHOD:PUBLISH
BEGIN:VEVENT
DTSTART:20231126T100000Z
DTEND:20231126T110000Z
LOCATION:Turnhalle Gächlingen\, Schulgasse 9\, 8214 Gächlingen
TRANSP:OPAQUE
SEQUENCE:0
UID:140860-veranstaltung@ref-sh.ch
DTSTAMP:20241111T134550Z
DESCRIPTION:Gottesdienst für Gross und Klein zum Kirchgemeindesonntag mit
  Bazar\n\nAnschliessend Bazar-Programm mit Mittagessen\, Verkaufstischen
  und Kinderprogramm\n\n\n\nKontakt: Pfr. Werner Näf\n\nWeitere Infos:
  https://www.ref-sh.ch/veranstaltung/140860
SUMMARY:Gottesdienst zum Gemeindesonntag mit Bazar für Gross und Klein
PRIORITY:5
X-MICROSOFT-CDO-IMPORTANCE:1
CLASS:PUBLIC
END:VEVENT
END:VCALENDAR
