BEGIN:VCALENDAR
PRODID:-//kirchenweb.ch gmbh//veranstaltungsausgabe v2.0//DE
VERSION:2.0
METHOD:PUBLISH
BEGIN:VEVENT
DTSTART:20230813T080000Z
DTEND:20230813T090000Z
LOCATION:Kirche\, Kirchstrasse 8\, 8214 Gächlingen
TRANSP:OPAQUE
SEQUENCE:0
UID:140853-veranstaltung@ref-sh.ch
DTSTAMP:20240729T050427Z
DESCRIPTION:Gemeinsamer Gottesdienst für Kinder\, Jugendliche und
  Erwachsene in der Kirche.\n\nAnschliessend Chilekafi\n\n\n\nKontakt: Pfr.
  Werner Näf\n\nWeitere Infos: https://www.ref-sh.ch/veranstaltung/140853
SUMMARY:Gottesdienst für Gross und Klein zum Schulstart
PRIORITY:5
X-MICROSOFT-CDO-IMPORTANCE:1
CLASS:PUBLIC
END:VEVENT
END:VCALENDAR
