BEGIN:VCALENDAR
PRODID:-//kirchenweb.ch gmbh//veranstaltungsausgabe v2.0//DE
VERSION:2.0
METHOD:PUBLISH
BEGIN:VEVENT
DTSTART:20230716T080000Z
DTEND:20230716T090000Z
LOCATION:Vor der Kirche (draussen)\, Kirchstrasse 8\, 8214 Gächlingen
TRANSP:OPAQUE
SEQUENCE:0
UID:140852-veranstaltung@ref-sh.ch
DTSTAMP:20240715T091743Z
DESCRIPTION:Fahrdienst ab Neunkirch bitte bis bis am Freitag Mittag bei
  Sandra Vögeli erfragen.\n\nKontakt: Werner Näf\n\nWeitere Infos:
  https://www.ref-sh.ch/veranstaltung/140852
SUMMARY:Regio-Gottesdienst
PRIORITY:5
X-MICROSOFT-CDO-IMPORTANCE:1
CLASS:PUBLIC
END:VEVENT
END:VCALENDAR
