BEGIN:VCALENDAR
PRODID:-//kirchenweb.ch gmbh//veranstaltungsausgabe v2.0//DE
VERSION:2.0
METHOD:PUBLISH
BEGIN:VEVENT
DTSTART:20231112T084500Z
DTEND:20231112T094500Z
LOCATION:Kirche Löhningen\, Kloster 3\, 8224 Löhningen
TRANSP:OPAQUE
SEQUENCE:0
UID:140592-veranstaltung@ref-sh.ch
DTSTAMP:20231227T170532Z
DESCRIPTION:Gottesdienst mit dem Ziitfenschter-Team in der Kirche
  Löhningen.\n\nKontakt: Pfarrer Lukas P. Huber\n\nWeitere Infos:
  https://www.ref-sh.ch/veranstaltung/140592
SUMMARY:Ziitfenschter-Gottesdienst
PRIORITY:5
X-MICROSOFT-CDO-IMPORTANCE:1
CLASS:PUBLIC
END:VEVENT
END:VCALENDAR
