BEGIN:VCALENDAR
PRODID:-//kirchenweb.ch gmbh//veranstaltungsausgabe v2.0//DE
VERSION:2.0
METHOD:PUBLISH
BEGIN:VEVENT
DTSTART:20231210T084500Z
DTEND:20231210T094500Z
LOCATION:Kirche Löhningen\, Kloster 3\, 8224 Löhningen
TRANSP:OPAQUE
SEQUENCE:0
UID:140588-veranstaltung@ref-sh.ch
DTSTAMP:20231211T094100Z
DESCRIPTION:Gottesdienst mit dem https://www.ref-sh.ch/beringen-kchor und
  Pfarrer Joachim Finger.\n\n\n\nKontakt: Pfarrer Lukas Huber\n\nWeitere
  Infos: https://www.ref-sh.ch/veranstaltung/140588
SUMMARY:Gottesdienst mit Kirchenchor Beringen
PRIORITY:5
X-MICROSOFT-CDO-IMPORTANCE:1
CLASS:PUBLIC
END:VEVENT
END:VCALENDAR
