BEGIN:VCALENDAR
PRODID:-//kirchenweb.ch gmbh//veranstaltungsausgabe v2.0//DE
VERSION:2.0
METHOD:PUBLISH
BEGIN:VEVENT
DTSTART:20231217T160000Z
DTEND:20231217T170000Z
LOCATION:Kirche Löhningen\, Kloster 3\, 8224 Löhningen
TRANSP:OPAQUE
SEQUENCE:0
UID:140587-veranstaltung@ref-sh.ch
DTSTAMP:20240817T131129Z
DESCRIPTION:Gemeinde-Weihnachtsfeier mit der Weihnachtsgeschichte in
  Gedichtform (Irene Walter) und mit Bildern von Löhningen und
  Guntmadinger Kinder.\n\nDie Kirchgemeinde Oberhallau ist auch eingeladen
  in diesen Gottesdienst.\n\nEs wird keine Chindehüeti angeboten\, aber
  Eltern können bei Bedarf mit ihren Kindern ins Mesmerhuus gehen\, wenn
  die Kinder unruhig werden.\n\n\nKontakt: Pfarrer Lukas Huber\n\nWeitere
  Infos: https://www.ref-sh.ch/veranstaltung/140587
SUMMARY:Gemeinde-Weihnachtsfeier (mit dem Fiire mit de Grosse)
PRIORITY:5
X-MICROSOFT-CDO-IMPORTANCE:1
CLASS:PUBLIC
END:VEVENT
END:VCALENDAR
