BEGIN:VCALENDAR
PRODID:-//kirchenweb.ch gmbh//veranstaltungsausgabe v2.0//DE
VERSION:2.0
METHOD:PUBLISH
BEGIN:VEVENT
DTSTART:20231224T210000Z
DTEND:20231224T220000Z
LOCATION:Kirche Löhningen\, Kloster 3\, 8224 Löhningen
TRANSP:OPAQUE
SEQUENCE:0
UID:140586-veranstaltung@ref-sh.ch
DTSTAMP:20240817T131252Z
DESCRIPTION:Christnachtfeier über das Bild «Die Anbetung der Hirten»
  von Giorgione; mit Pfarrer Lukas Huber.\n\nGaby und Ute Schilling singen
  zu Orgelbegleitung.\n\n\nKontakt: Pfarrer Lukas Huber\n\nWeitere Infos:
  https://www.ref-sh.ch/veranstaltung/140586
SUMMARY:Christnachtfeier
PRIORITY:5
X-MICROSOFT-CDO-IMPORTANCE:1
CLASS:PUBLIC
END:VEVENT
END:VCALENDAR
