BEGIN:VCALENDAR
PRODID:-//kirchenweb.ch gmbh//veranstaltungsausgabe v2.0//DE
VERSION:2.0
METHOD:PUBLISH
BEGIN:VEVENT
DTSTART:20231225T084500Z
DTEND:20231225T094500Z
LOCATION:Kirche Löhningen\, Kloster 3\, 8224 Löhningen
TRANSP:OPAQUE
SEQUENCE:0
UID:140582-veranstaltung@ref-sh.ch
DTSTAMP:20240817T131411Z
DESCRIPTION:Weihnachtsgottesdienst mit Abendmahl; mit Pfarrer Lukas Huber.
  Statt einer Predigt wird eine Geschichte vorgetragen.\n\n\n\nKontakt:
  Pfarrer Lukas Huber\n\nWeitere Infos:
  https://www.ref-sh.ch/veranstaltung/140582
SUMMARY:Abendmahlsgottesdienst zu Weihnachten
PRIORITY:5
X-MICROSOFT-CDO-IMPORTANCE:1
CLASS:PUBLIC
END:VEVENT
END:VCALENDAR
