BEGIN:VCALENDAR
PRODID:-//kirchenweb.ch gmbh//veranstaltungsausgabe v2.0//DE
VERSION:2.0
METHOD:PUBLISH
BEGIN:VEVENT
DTSTART:20231105T084500Z
DTEND:20231105T094500Z
LOCATION:Kirche Löhningen\, Kloster 3\, 8224 Löhningen
TRANSP:OPAQUE
SEQUENCE:0
UID:140581-veranstaltung@ref-sh.ch
DTSTAMP:20231227T170443Z
DESCRIPTION:Abendmahls-Gottesdienst zum Reformationssonntag\, mit Pfarrer
  Beat Frefel (Buchberg).\n\nKontakt: Pfarrer Lukas Huber\n\nWeitere Infos:
  https://www.ref-sh.ch/veranstaltung/140581
SUMMARY:Abendmahlsgottesdienst zum Reformationssonntag
PRIORITY:5
X-MICROSOFT-CDO-IMPORTANCE:1
CLASS:PUBLIC
END:VEVENT
END:VCALENDAR
