BEGIN:VCALENDAR
PRODID:-//kirchenweb.ch gmbh//veranstaltungsausgabe v2.0//DE
VERSION:2.0
METHOD:PUBLISH
BEGIN:VEVENT
DTSTART:20231022T074500Z
DTEND:20231022T084500Z
LOCATION:Kirche Löhningen\, Kloster 3\, 8224 Löhningen
TRANSP:OPAQUE
SEQUENCE:0
UID:140580-veranstaltung@ref-sh.ch
DTSTAMP:20240817T121525Z
DESCRIPTION:Gottesdienst mit Pfarrer Lukas Huber in der Kirche Löhningen.
  Anschliessend Kirchgemeinde-Versammlung.\n\nKontakt: Pfarrer Lukas P.
  Huber\n\nWeitere Infos: https://www.ref-sh.ch/veranstaltung/140580
SUMMARY:Gottesdienst\, anschliessend Kirchgemeinde-Versammlung
PRIORITY:5
X-MICROSOFT-CDO-IMPORTANCE:1
CLASS:PUBLIC
END:VEVENT
END:VCALENDAR
