BEGIN:VCALENDAR
PRODID:-//kirchenweb.ch gmbh//veranstaltungsausgabe v2.0//DE
VERSION:2.0
METHOD:PUBLISH
BEGIN:VEVENT
DTSTART:20230528T074500Z
DTEND:20230528T084500Z
LOCATION:Pfarrgarten Löhningen\, Kloster 3\, 8224 Löhningen
TRANSP:OPAQUE
SEQUENCE:0
UID:140578-veranstaltung@ref-sh.ch
DTSTAMP:20230630T080159Z
DESCRIPTION:Pfingst-Abendmahlsgottesdienst im Pfarrgarten Löhningen mit
  Pfarrer Lukas Huber.\n\nBei ungünstiger Witterung findet der
  Gottesdienst in der Kirche Löhningen statt.\n\n\nKontakt: Pfr. Lukas
  Huber\n\nWeitere Infos: https://www.ref-sh.ch/veranstaltung/140578
SUMMARY:Abendmahlsgottesdienst zu Pfingsten
PRIORITY:5
X-MICROSOFT-CDO-IMPORTANCE:1
CLASS:PUBLIC
END:VEVENT
END:VCALENDAR
