BEGIN:VCALENDAR
PRODID:-//kirchenweb.ch gmbh//veranstaltungsausgabe v2.0//DE
VERSION:2.0
METHOD:PUBLISH
BEGIN:VEVENT
DTSTART:20230806T074500Z
DTEND:20230806T084500Z
LOCATION:Kirche Löhningen\, Kloster 3\, 8224 Löhningen
TRANSP:OPAQUE
SEQUENCE:0
UID:140369-veranstaltung@ref-sh.ch
DTSTAMP:20231227T170207Z
DESCRIPTION:Regio-Gottesdienst mit Pfarrerin Jutta Schenk (Beringen) in
  der Kirche Löhningen.\n\nDie Kirchgemeinde Beringen ist ebenfalls in
  diesen Gottesdienst eingeladen.\n\nKontakt: Pfarrer Lukas P. Huber\n
 \nWeitere Infos: https://www.ref-sh.ch/veranstaltung/140369
SUMMARY:Regio-Gottesdienst in Löhningen
PRIORITY:5
X-MICROSOFT-CDO-IMPORTANCE:1
CLASS:PUBLIC
END:VEVENT
END:VCALENDAR
