BEGIN:VCALENDAR
PRODID:-//kirchenweb.ch gmbh//veranstaltungsausgabe v2.0//DE
VERSION:2.0
METHOD:PUBLISH
BEGIN:VEVENT
DTSTART:20231224T153000Z
DTEND:20231224T163000Z
LOCATION:Kirche\, \,  Buchberg-Rüdlingen
TRANSP:OPAQUE
SEQUENCE:0
UID:140289-veranstaltung@ref-sh.ch
DTSTAMP:20231231T084729Z
DESCRIPTION:Familienweihnachtsfeier\n\nDie Kirchenmaus und ihre Freunde
  erzählen die Weihnachtsgeschichte. Danach darf wieder das Licht von
  Bethlehem in die Welt und nach Hause getragen werden. Bitte eine Laterne
  oder ein Windlicht mitbringen.\n\nKontakt: Corina Schär\, Beat Frefel\n
 \nWeitere Infos: https://www.ref-sh.ch/veranstaltung/140289
SUMMARY:Licht holen an der Krippe
PRIORITY:5
X-MICROSOFT-CDO-IMPORTANCE:1
CLASS:PUBLIC
END:VEVENT
END:VCALENDAR
