BEGIN:VCALENDAR
PRODID:-//kirchenweb.ch gmbh//veranstaltungsausgabe v2.0//DE
VERSION:2.0
METHOD:PUBLISH
BEGIN:VEVENT
DTSTART:20231231T160000Z
DTEND:20231231T170000Z
LOCATION:Kirche\, \,  Buchberg-Rüdlingen
TRANSP:OPAQUE
SEQUENCE:0
UID:140279-veranstaltung@ref-sh.ch
DTSTAMP:20231231T084619Z
DESCRIPTION:Wir lassen das alte Jahr ausklingen und nehmen das neue in den
  Blick. Der Männerchor Buchberg hilft uns dabei. Mit Apéro.\n\n
 \nKontakt: Beat Frefel\n\nWeitere Infos:
  https://www.ref-sh.ch/veranstaltung/140279
SUMMARY:Silvestergottesdienst
PRIORITY:5
X-MICROSOFT-CDO-IMPORTANCE:1
CLASS:PUBLIC
END:VEVENT
END:VCALENDAR
