BEGIN:VCALENDAR
PRODID:-//kirchenweb.ch gmbh//veranstaltungsausgabe v2.0//DE
VERSION:2.0
METHOD:PUBLISH
BEGIN:VEVENT
DTSTART:20231224T213000Z
DTEND:20231224T223000Z
LOCATION:Kirche\, \,  Buchberg-Rüdlingen
TRANSP:OPAQUE
SEQUENCE:0
UID:140277-veranstaltung@ref-sh.ch
DTSTAMP:20231231T084744Z
DESCRIPTION:Maria und Josef an der Thur... Nicht unweit von unserer
  Kirchgemeinde kam 1940 ein Kind unter ganz besonderen Umständen auf die
  Welt. Diese Geschichte erzählen wir in der Christnacht. Und die der
  Geburt in Betlehem natürlich auch.\n\nKontakt: Beat Frefel\n\nWeitere
  Infos: https://www.ref-sh.ch/veranstaltung/140277
SUMMARY:Christnacht
PRIORITY:5
X-MICROSOFT-CDO-IMPORTANCE:1
CLASS:PUBLIC
END:VEVENT
END:VCALENDAR
