BEGIN:VCALENDAR
PRODID:-//kirchenweb.ch gmbh//veranstaltungsausgabe v2.0//DE
VERSION:2.0
METHOD:PUBLISH
BEGIN:VEVENT
DTSTART:20231217T084500Z
DTEND:20231217T094500Z
LOCATION:Kirche\, \,  Buchberg-Rüdlingen
TRANSP:OPAQUE
SEQUENCE:0
UID:140276-veranstaltung@ref-sh.ch
DTSTAMP:20231205T124627Z
DESCRIPTION:Kontakt: Stud. theol. Stephanie Lemke\n\nWeitere Infos:
  https://www.ref-sh.ch/veranstaltung/140276
SUMMARY:Gottesdienst
PRIORITY:5
X-MICROSOFT-CDO-IMPORTANCE:1
CLASS:PUBLIC
END:VEVENT
END:VCALENDAR
