BEGIN:VCALENDAR
PRODID:-//kirchenweb.ch gmbh//veranstaltungsausgabe v2.0//DE
VERSION:2.0
METHOD:PUBLISH
BEGIN:VEVENT
DTSTART:20231203T084500Z
DTEND:20231203T094500Z
LOCATION:Kirche\, \,  Buchberg-Rüdlingen
TRANSP:OPAQUE
SEQUENCE:0
UID:140274-veranstaltung@ref-sh.ch
DTSTAMP:20231111T150736Z
DESCRIPTION:Ein Gottesdienst mit Päckli\, Gospel\, Könfis\, Kürbissuppe
  und Marroni. In dieser Reihenfolge. \n\nWir werden wieder die Päckli\,
  die Sie gemacht haben\, ins Zentrum des Geschehens stellen. Der
  Rainbowchor singt\, die KonfirmandInnen gestalten mit und danach gibt es
  feine Kürbissuppe und heisse Marroni.\n\n\nKontakt: Beat Frefel\,
  Barbara Erdmann\n\nWeitere Infos:
  https://www.ref-sh.ch/veranstaltung/140274
SUMMARY:Päcklisunntig
PRIORITY:5
X-MICROSOFT-CDO-IMPORTANCE:1
CLASS:PUBLIC
END:VEVENT
END:VCALENDAR
