BEGIN:VCALENDAR
PRODID:-//kirchenweb.ch gmbh//veranstaltungsausgabe v2.0//DE
VERSION:2.0
METHOD:PUBLISH
BEGIN:VEVENT
DTSTART:20231119T084500Z
DTEND:20231119T094500Z
LOCATION:Kirche\, \,  Buchberg-Rüdlingen
TRANSP:OPAQUE
SEQUENCE:0
UID:140272-veranstaltung@ref-sh.ch
DTSTAMP:20231117T082822Z
DESCRIPTION:Im diesjährigen Laiengottesdienst geht es um die Fassade.
  Diejenige eines Hauses\, so wie das Pfarrhaus\, das eine umfassende
  Renovation erhielt. Und diejenige von uns Menschen\, mit\nder wir uns
  zeigen\, ausdrücken und schützen. Herzliche Einladung!\n\nAnschliessend
  Kirchgemeindeversammlung\n\nKontakt: Mitglieder des Kirchenstands\n
 \nWeitere Infos: https://www.ref-sh.ch/veranstaltung/140272
SUMMARY:Laiengottesdienst
PRIORITY:5
X-MICROSOFT-CDO-IMPORTANCE:1
CLASS:PUBLIC
END:VEVENT
END:VCALENDAR
