BEGIN:VCALENDAR
PRODID:-//kirchenweb.ch gmbh//veranstaltungsausgabe v2.0//DE
VERSION:2.0
METHOD:PUBLISH
BEGIN:VEVENT
DTSTART:20230910T080000Z
DTEND:20230910T090000Z
LOCATION:Schulhausplatz\, \, 8454 Buchberg
TRANSP:OPAQUE
SEQUENCE:0
UID:140262-veranstaltung@ref-sh.ch
DTSTAMP:20230821T072004Z
DESCRIPTION:Das kleinste Dörflein ladet ein\,		\nzu einem guten Gläschen
  Wein\,		\nda schwinden Sorgen\, Müh und Last\,	\nder Wandersmann macht
  seine Rast.\n\n„Heimatlied“ heisst das Lied mit dem obigen Text\, das
  der Männerchor Buchberg neben anderen Weinliedern an unserem
  Gottesdienst singen wird. Wer wenn nicht unser Männerchor\, hat die
  passenden Lieder zu diesem Anlass? Wir freuen uns mit ihm zusammen diesen
  Gottesdienst zu gestalten.\n\nDer Festgottesdienst ist der Start zur 2.
  Wii-Wanderig\, welche im Rahmen der 900-Jahrfeier der Gemeinde Buchberg
  stattfindet.\n\n\nKontakt: Barbara Erdmann\n\nWeitere Infos:
  https://www.ref-sh.ch/veranstaltung/140262
SUMMARY:Wii-Wanderigs-Gottesdienst
PRIORITY:5
X-MICROSOFT-CDO-IMPORTANCE:1
CLASS:PUBLIC
END:VEVENT
END:VCALENDAR
