BEGIN:VCALENDAR
PRODID:-//kirchenweb.ch gmbh//veranstaltungsausgabe v2.0//DE
VERSION:2.0
METHOD:PUBLISH
BEGIN:VEVENT
DTSTART:20230709T090000Z
DTEND:20230709T100000Z
LOCATION:Kirche\, \,  Buchberg-Rüdlingen
TRANSP:OPAQUE
SEQUENCE:0
UID:140253-veranstaltung@ref-sh.ch
DTSTAMP:20230517T193556Z
DESCRIPTION:Zmittaggottesdienst mit Mani Matter\n\nNatürlich wird der
  Berner Liedermacher nicht persönlich anwesend sein\, sein Todesdatum hat
  sich letzten November zum fünfzigsten Mal gejährt. Aber seine Lieder
  haben die Jahre überdauert\, einige von ihnen sind zu Volksliedern
  geworden und die SchülerInnen singen sie sogar in der Schule. Seine
  pointierten Texte machen wir zum Thema des Gottesdienstes und spiegeln
  die biblische Botschaft darin.\n\nWer sein Lieblingslied von Mani Matter
  im Gottesdienst vorstellen will\, melde sich gerne beim Pfarramt.\n\nDer
  Zmittaggottesdienst startet um 11.00 Uhr\, feiert mit Gästen\,
  ungezwungen und meist orgellos\, dafür poppig oder volkstümlich.\n
 \nNach dem Gottesdienst steht der Grill bereit. Wer bleiben will und
  Hunger hat\, kann seine Wurst\, sein Steak und seinen Bratkäse
  darauflegen und gemütlich vor der Kirche mit anderen in den
  Sonntagnachmittag starten.\n\nDas Essen bitte selber mitbringen. Für
  Spontanentschlossene halten wir gerne Wurst und Brot parat. Getränke
  geben wir zum Selbstkostenpreis ab.\n\n\n\nKontakt: Beat Frefel\n
 \nWeitere Infos: https://www.ref-sh.ch/veranstaltung/140253
SUMMARY:Zmittaggottesdienst
PRIORITY:5
X-MICROSOFT-CDO-IMPORTANCE:1
CLASS:PUBLIC
END:VEVENT
END:VCALENDAR
