BEGIN:VCALENDAR
PRODID:-//kirchenweb.ch gmbh//veranstaltungsausgabe v2.0//DE
VERSION:2.0
METHOD:PUBLISH
BEGIN:VEVENT
DTSTART:20230611T090000Z
DTEND:20230611T100000Z
LOCATION:In der Woog\, \, 8455 Rüdlingen
TRANSP:OPAQUE
SEQUENCE:0
UID:140249-veranstaltung@ref-sh.ch
DTSTAMP:20230607T120718Z
DESCRIPTION:Unser Gottesdienst unter freiem Himmel findet in der Nähe des
  alten Fischerhäuschens bei der Woog statt. Nach dem Gottesdienst bietet
  der Fischereiverein Rüdlingen Fischknusperli an.\n\nTauferinnerung: Die
  meisten von uns sind als Kind getauft worden. Aktiv erinnern können wir
  uns nicht daran. Am Rhein bietet sich nun eine gute Gelegenheit unserem
  Gedächtnis auf die Sprünge zu helfen.\n\n\nParkplatz\nDie Gemeinde
  Rüdlingen stellt für die Dauer der Veranstaltung für ältere und
  gehbehinderte Personen den Parkplatz bei der Woog zur Verfügung.\n
 \nSchlechtes Wetter\nWir stellen uns natürlich einen sonnigen Vormittag
  mit wärmenden Sonnenstrahlen vor. Wenn es regnet\, nehmen wir jedoch das
  schützende Dach unserer Kirche in Anspruch. Bei unsicherer Witterung
  gibt am Sonntag ab 8.00 Uhr Tel. 079 467 95 92 (Tonband) über den
  Durchführungsort Auskunft. Die Fischknusperli werden dann bei der Kirche
  angeboten.\n\nKontakt: Beat Frefel\n\nWeitere Infos:
  https://www.ref-sh.ch/veranstaltung/140249
SUMMARY:Gottesdienst am Rhein
PRIORITY:5
X-MICROSOFT-CDO-IMPORTANCE:1
CLASS:PUBLIC
END:VEVENT
END:VCALENDAR
