BEGIN:VCALENDAR
PRODID:-//kirchenweb.ch gmbh//veranstaltungsausgabe v2.0//DE
VERSION:2.0
METHOD:PUBLISH
BEGIN:VEVENT
DTSTART:20230319T084500Z
DTEND:20230319T094500Z
LOCATION:Kirche\, \,  Buchberg-Rüdlingen
TRANSP:OPAQUE
SEQUENCE:0
UID:140235-veranstaltung@ref-sh.ch
DTSTAMP:20230221T101836Z
DESCRIPTION:Anschliessend Chilekafi\n\nTaufe und Abendmahl gehören zu den
  beiden Sakramenten\, welche die reformierte Kirche hat. Beides lernen die
  Kinder im 3. Klassunti kennen. Was man kennengelernt hat\, muss man
  umsetzen\, das gilt auch hier.\n\nDie 3. Klassuntikinder gestalten mit
  ihrer Katechetin Arlette Neukomm und Pfarrerin Barbara Erdmann diesen
  Gottesdienst. Und sie teilen uns das Brot und den Traubensaft aus.\n
 \nHerzliche Einladung zu dieser herzerwärmenden Feier.\n\nKontakt:
  Barbara Erdmann\n\nWeitere Infos:
  https://www.ref-sh.ch/veranstaltung/140235
SUMMARY:3. Klassunti-Gottesdienst mit Abendmahl
PRIORITY:5
X-MICROSOFT-CDO-IMPORTANCE:1
CLASS:PUBLIC
END:VEVENT
END:VCALENDAR
