BEGIN:VCALENDAR
PRODID:-//kirchenweb.ch gmbh//veranstaltungsausgabe v2.0//DE
VERSION:2.0
METHOD:PUBLISH
BEGIN:VEVENT
DTSTART:20230312T100000Z
DTEND:20230312T110000Z
LOCATION:Kirche\, \,  Buchberg-Rüdlingen
TRANSP:OPAQUE
SEQUENCE:0
UID:140234-veranstaltung@ref-sh.ch
DTSTAMP:20230221T085425Z
DESCRIPTION:Gospelgottesdienst mit dem Rainbowchor\n12. März\, 11.00 Uhr
 \nDanach gibt‘s feine Hot Dogs fürs leibliche Wohl!\n\nIm Film „Blues
  Brothers“ aus dem Jahre 1980 gibt es eine Szene\, welche die Wirkung
  eines Gospelliedes prägnant und witzig auf den Punkt bringt.\n\nAuf Jack
  fällt mitten in einem Gottesdienst ein neonfarbenes blaues Licht und
  alle in der Kirche sehen\, dass da gerade etwas Unerhörtes passiert.\n
 \nAuf ihrer Mission\, Geld für ein Waisenhaus zu sammeln\, gehen Jack und
  Elwood nur mit wenig Begeisterung in die Kirche. Die leidenschaftliche
  Gospelmusik\, die dort gespielt wird\, erfasst Jack dann aber dermassen\,
  dass er gar nicht mehr anders kann als zu tanzen und angesteckt wird von
  der Kraft des Heiligen Geistes. „Can you see the light?!“\, ruft der
  Priester\, gespielt vom phänomenalen James Brown. Danach ist der Weg
  für ein spektakuläres Roadmovie frei.\n\nSo spektakulär wie in diesem
  Film geht es bei uns im Gospelgottesdienst nicht zu und her. Aber der
  Rainbowchor schafft es jedesmal\, die Kraft und die Lebensfreude seiner
  Gospelsongs an die Ohren und in die Herzen der Zuhörenden zu tragen.\n
 \nBist du dabei?\n\n\nKontakt: Beat Frefel\n\nWeitere Infos:
  https://www.ref-sh.ch/veranstaltung/140234
SUMMARY:Gospelgottesdienst: "Can you see the light?!"
PRIORITY:5
X-MICROSOFT-CDO-IMPORTANCE:1
CLASS:PUBLIC
END:VEVENT
END:VCALENDAR
