BEGIN:VCALENDAR
PRODID:-//kirchenweb.ch gmbh//veranstaltungsausgabe v2.0//DE
VERSION:2.0
METHOD:PUBLISH
BEGIN:VEVENT
DTSTART:20220925T150000Z
DTEND:20220925T160000Z
LOCATION:Kirche\, Dorfstrasse\, 8454 Buchberg-Rüdlingen
TRANSP:OPAQUE
SEQUENCE:0
UID:140149-veranstaltung@ref-sh.ch
DTSTAMP:20220917T055606Z
DESCRIPTION:Loïc Adam (Horn)\nVictor Radulescu (Orgel)\n\nEintritt frei\,
  Kollekte\n\nKontakt: beat.frefel@ref-sh.ch\n\nWeitere Infos:
  https://www.ref-sh.ch/veranstaltung/140149
SUMMARY:Fällt aus Konzert: Horn und Orgel
PRIORITY:5
X-MICROSOFT-CDO-IMPORTANCE:1
CLASS:PUBLIC
END:VEVENT
END:VCALENDAR
