BEGIN:VCALENDAR
PRODID:-//kirchenweb.ch gmbh//veranstaltungsausgabe v2.0//DE
VERSION:2.0
METHOD:PUBLISH
BEGIN:VEVENT
DTSTART:20231029T093000Z
DTEND:20231029T103000Z
LOCATION:Kirche Löhningen\, Kloster 3\, 8224 Löhningen
TRANSP:OPAQUE
SEQUENCE:0
UID:140078-veranstaltung@ref-sh.ch
DTSTAMP:20231031T102318Z
DESCRIPTION:Familiengottesdienst zu Erntedank mit Team und Gabi Tanner.\n
 \nKloster 3\, 8224 Löhningen\n\nAnschliessend Erntedank-Essen im
  Kleeblatt-Saal.\n\nHerrengasse 23\, 8224 Löhningen\n\nAchtung: Rückkehr
  zur Normalzeit («Winterzeit»)\n\nWer einen Erntedank-Beitrag leisten
  möchte\, ist gebeten\, die Kirche mit Gaben zu schmücken. Die Gaben\,
  Kartoffeln\, Konfitüre\, Birnenschnitze\, Brot und so weiter werden dann
  schön präsentiert\, und nach dem Gottesdienst kann jeder\, der
  möchte\, etwas mit nach Hause nehmen und dafür einen selbst gewählten
  Betrag zahlen. Der Erlös kommt dem Jahresprojekt zugute.\n\nBitte
  bringen Sie Ihren Beitrag an Früchten oder Gemüse\, Gebackenem oder
  Eingemachtem\, am Samstag vor dem Erntedank\, bis 12 Uhr in die Kirche.\n
 \n\nKontakt: Gabriela Tanner\n\nWeitere Infos:
  https://www.ref-sh.ch/veranstaltung/140078
SUMMARY:Erntedank-Familiengottesdienst
PRIORITY:5
X-MICROSOFT-CDO-IMPORTANCE:1
CLASS:PUBLIC
END:VEVENT
END:VCALENDAR
