BEGIN:VCALENDAR
PRODID:-//kirchenweb.ch gmbh//veranstaltungsausgabe v2.0//DE
VERSION:2.0
METHOD:PUBLISH
BEGIN:VEVENT
DTSTART:20230924T080000Z
DTEND:20230924T090000Z
LOCATION:Trotte Löhningen\, Schulgasse 21\, 8224 Löhningen
TRANSP:OPAQUE
SEQUENCE:0
UID:140075-veranstaltung@ref-sh.ch
DTSTAMP:20231227T170322Z
DESCRIPTION:Familiengottesdienst zum Trottenfest Löhningen vor der
  Trotte\, vorbereitet vom ökumenischen Trottenfestgottesdienst-Team und
  Pfarrer Lukas Huber. Thema: das Trottenfest-Motto «Mir hend Energii».
  Während der Predigt gibt es für die Kinder die Möglichkeit\, mit dem
  Team etwas zu basteln.\n\nTeam: Irene Walter\, Lisi Spörndli und Andrea
  Straub.\n\nDer Gottesdienst findet bei schönem Wetter vor der
  https://map.search.ch/d/mrlyzy0zt statt.\n\nBei Regen findet der
  Gottesdienst in der
  https://map.search.ch/Löhningen\,Kloster-14@683630\,283758 statt.\n\n
 \nKontakt: Pfarrer Lukas Huber\n\nWeitere Infos:
  https://www.ref-sh.ch/veranstaltung/140075
SUMMARY:Familiengottesdienst zum Trottenfest: «Mir hend Energii»
PRIORITY:5
X-MICROSOFT-CDO-IMPORTANCE:1
CLASS:PUBLIC
END:VEVENT
END:VCALENDAR
